BEGIN:VCALENDAR
VERSION:2.0
PRODID:-//Job Point - ECPv6.15.20//NONSGML v1.0//EN
CALSCALE:GREGORIAN
METHOD:PUBLISH
X-WR-CALNAME:Job Point
X-ORIGINAL-URL:https://www.jobpoint.org
X-WR-CALDESC:Events for Job Point
REFRESH-INTERVAL;VALUE=DURATION:PT1H
X-Robots-Tag:noindex
X-PUBLISHED-TTL:PT1H
BEGIN:VTIMEZONE
TZID:America/Chicago
BEGIN:DAYLIGHT
TZOFFSETFROM:-0600
TZOFFSETTO:-0500
TZNAME:CDT
DTSTART:20210314T080000
END:DAYLIGHT
BEGIN:STANDARD
TZOFFSETFROM:-0500
TZOFFSETTO:-0600
TZNAME:CST
DTSTART:20211107T070000
END:STANDARD
BEGIN:DAYLIGHT
TZOFFSETFROM:-0600
TZOFFSETTO:-0500
TZNAME:CDT
DTSTART:20220313T080000
END:DAYLIGHT
BEGIN:STANDARD
TZOFFSETFROM:-0500
TZOFFSETTO:-0600
TZNAME:CST
DTSTART:20221106T070000
END:STANDARD
BEGIN:DAYLIGHT
TZOFFSETFROM:-0600
TZOFFSETTO:-0500
TZNAME:CDT
DTSTART:20230312T080000
END:DAYLIGHT
BEGIN:STANDARD
TZOFFSETFROM:-0500
TZOFFSETTO:-0600
TZNAME:CST
DTSTART:20231105T070000
END:STANDARD
BEGIN:DAYLIGHT
TZOFFSETFROM:-0600
TZOFFSETTO:-0500
TZNAME:CDT
DTSTART:20240310T080000
END:DAYLIGHT
BEGIN:STANDARD
TZOFFSETFROM:-0500
TZOFFSETTO:-0600
TZNAME:CST
DTSTART:20241103T070000
END:STANDARD
BEGIN:DAYLIGHT
TZOFFSETFROM:-0600
TZOFFSETTO:-0500
TZNAME:CDT
DTSTART:20250309T080000
END:DAYLIGHT
BEGIN:STANDARD
TZOFFSETFROM:-0500
TZOFFSETTO:-0600
TZNAME:CST
DTSTART:20251102T070000
END:STANDARD
BEGIN:DAYLIGHT
TZOFFSETFROM:-0600
TZOFFSETTO:-0500
TZNAME:CDT
DTSTART:20260308T080000
END:DAYLIGHT
BEGIN:STANDARD
TZOFFSETFROM:-0500
TZOFFSETTO:-0600
TZNAME:CST
DTSTART:20261101T070000
END:STANDARD
BEGIN:DAYLIGHT
TZOFFSETFROM:-0600
TZOFFSETTO:-0500
TZNAME:CDT
DTSTART:20270314T080000
END:DAYLIGHT
BEGIN:STANDARD
TZOFFSETFROM:-0500
TZOFFSETTO:-0600
TZNAME:CST
DTSTART:20271107T070000
END:STANDARD
END:VTIMEZONE
BEGIN:VEVENT
DTSTART;TZID=America/Chicago:20260120T173000
DTEND;TZID=America/Chicago:20260120T200000
DTSTAMP:20260424T215234
CREATED:20251023T044525Z
LAST-MODIFIED:20251024T031154Z
UID:11204-1768930200-1768939200@www.jobpoint.org
SUMMARY:Heating\, Ventilation & Air Conditioning - Winter 2026 Session
DESCRIPTION:We are now enrolling for our next class\, set to begin on January 20\, 2026. Classes will be taught in the evening\, two days a week\, on Tuesdays and Thursdays from 5:30 pm – 8:00 pm. This session is expected to last 4-6 months\, depending on the size of the class and their pace through coursework. We look forward to bringing this exciting class back this fall!\n\nThe HVAC certificate program prepares students to become leaders in the field by providing a foundation of knowledge\, skills\, and the ability to think critically.\n\nThe training utilizes an industry-recognized curriculum from the National Center for Construction Education and Research (NCCER). A state-of-the-art lab offers hands-on instruction. Our HVAC certificate program consists of three courses. Scholarships may be available for eligible students.\n\nApply Now
URL:https://www.jobpoint.org/event/hvac-winter-2026/
CATEGORIES:Upcoming Classes
ATTACH;FMTTYPE=image/png:https://www.jobpoint.org/wp-content/uploads/2025/10/2.png
END:VEVENT
BEGIN:VEVENT
DTSTART;TZID=America/Chicago:20260106T173000
DTEND;TZID=America/Chicago:20260106T203000
DTSTAMP:20260424T215234
CREATED:20251022T225850Z
LAST-MODIFIED:20251119T035644Z
UID:11196-1767720600-1767731400@www.jobpoint.org
SUMMARY:CNA Winter 2026: Session 1
DESCRIPTION:We are now enrolling for our next class\, set to begin on January 6\, 2026. Classes will be taught in the evening\, two days a week\, on Tuesdays and Thursdays from 5:30 pm – 8:30 pm. Our CNA program includes 75 hours of in-class instruction and 100 hours of clinicals onsite at a local facility. We look forward to starting our next session of this fast-paced\, exciting class this winter!\nThis fast-track training will prepare you for a career as a CNA in around 12 weeks. Training includes hands-on experiences that start the first week of classes. Our individualized attention will inspire self-confidence. Certification tests and exams are included. Liability insurance coverage is included for each student for up to one year. Scholarships may be available for eligible students. \nApply Now
URL:https://www.jobpoint.org/event/cna-winter-2026-1/
LOCATION:Job Point\, 400 Wilkes Boulevard\, Columbia\, MO\, 65201\, United States
CATEGORIES:Upcoming Classes
ATTACH;FMTTYPE=image/png:https://www.jobpoint.org/wp-content/uploads/2024/08/Now-Enrolling-Class-Specific-1.png
ORGANIZER;CN="Job Point":MAILTO:info@jobpoint.org
END:VEVENT
BEGIN:VEVENT
DTSTART;TZID=America/Chicago:20250909T173000
DTEND;TZID=America/Chicago:20250909T200000
DTSTAMP:20260424T215234
CREATED:20240821T221758Z
LAST-MODIFIED:20250829T185717Z
UID:10727-1757439000-1757448000@www.jobpoint.org
SUMMARY:CNA Fall 2025 Session 2
DESCRIPTION:We are now enrolling for our next class\, set to begin on September 9\, 2025. Classes will be taught in the evening\, two days a week\, on Tuesdays and Thursdays from 5:30 pm – 8:00 pm. Our CNA program includes 75 hours of in-class instruction and 100 hours of clinicals onsite at a local facility. We look forward to bringing this fast-paced exciting class back this fall!\nThis fast-track training will prepare you for a career as a CNA in around 12 weeks. Training includes hands-on experiences that start the first week of classes. Our individualized attention will inspire self-confidence. Certification tests and exams are included. Liability insurance coverage is included for each student for up to one year. \nApply Now
URL:https://www.jobpoint.org/event/cna-fall-2025-session-2/
LOCATION:Job Point\, 400 Wilkes Boulevard\, Columbia\, MO\, 65201\, United States
CATEGORIES:Upcoming Classes
ATTACH;FMTTYPE=image/png:https://www.jobpoint.org/wp-content/uploads/2024/08/Now-Enrolling-Class-Specific-1.png
ORGANIZER;CN="Job Point":MAILTO:info@jobpoint.org
END:VEVENT
BEGIN:VEVENT
DTSTART;TZID=America/Chicago:20250903T173000
DTEND;TZID=America/Chicago:20250903T200000
DTSTAMP:20260424T215234
CREATED:20240821T214822Z
LAST-MODIFIED:20250829T185556Z
UID:10724-1756920600-1756929600@www.jobpoint.org
SUMMARY:CNA Fall 2025 Session 1
DESCRIPTION:We are now enrolling for our next class\, set to begin on September 3\, 2025. Classes will be taught in the evening\, two days a week\, on Mondays and Wednesdays from 5:30 pm – 8:00 pm. Our CNA program includes 75 hours of in-class instruction and 100 hours of clinicals onsite at a local facility. We look forward to bringing this fast-paced exciting class back this fall!\nThis fast-track training will prepare you for a career as a CNA in around 12 weeks. Training includes hands-on experiences that start the first week of classes. Our individualized attention will inspire self-confidence. Certification tests and exams are included. Liability insurance coverage is included for each student for up to one year. \nApply Now
URL:https://www.jobpoint.org/event/cna-fall-2025-session-1/
LOCATION:Job Point\, 400 Wilkes Boulevard\, Columbia\, MO\, 65201\, United States
CATEGORIES:Upcoming Classes
ATTACH;FMTTYPE=image/png:https://www.jobpoint.org/wp-content/uploads/2024/08/Now-Enrolling-Class-Specific-1.png
END:VEVENT
BEGIN:VEVENT
DTSTART;TZID=America/Chicago:20241118T080000
DTEND;TZID=America/Chicago:20241207T153000
DTSTAMP:20260424T215234
CREATED:20241113T203028Z
LAST-MODIFIED:20241113T203028Z
UID:10786-1731916800-1733585400@www.jobpoint.org
SUMMARY:YouthBuild Mental Toughness Orientation
DESCRIPTION:We are now enrolling for our next Mental Toughness Orientation for YouthBuild set to begin the week of November 18. This two-week program is Job Point’s prerequisite for enrollment in YouthBuild.\n\nJob Point’s YouthBuild program helps empower young people ages 16-24 to reclaim their education\, helping them earn their high school equivalency\, learn a skilled trade\, and develop powerful leadership\, communication and life skills. Students have the opportunity to earn a stipend while they study for their HiSET exams\, get hands-on experience building houses and serving their community.\n\nEligibility requirements: \n\n1. Between the ages of 16 and 24 on the date of enrollment; AND\n2. Member of a low-income family\, a youth in foster care (including youth aging out of foster care)\, an offender\, a youth who is an individual with a disability\, a child of an incarcerated parent\, a homeless youth\, or a migrant youth; AND\n3. School dropout\, or an individual who was a school dropout and has subsequently re-enrolled\n\nApply Now
URL:https://www.jobpoint.org/event/yborientation/
LOCATION:Job Point\, 400 Wilkes Boulevard\, Columbia\, MO\, 65201\, United States
CATEGORIES:Upcoming Classes
ATTACH;FMTTYPE=image/jpeg:https://www.jobpoint.org/wp-content/uploads/2024/06/teamwork.jpg
ORGANIZER;CN="Job Point":MAILTO:info@jobpoint.org
END:VEVENT
BEGIN:VEVENT
DTSTART;TZID=America/Chicago:20241001T170000
DTEND;TZID=America/Chicago:20241001T203000
DTSTAMP:20260424T215234
CREATED:20240821T205317Z
LAST-MODIFIED:20240905T133021Z
UID:10718-1727802000-1727814600@www.jobpoint.org
SUMMARY:Heating\, Ventilation & Air Conditioning - Fall 2024 Session
DESCRIPTION:We are now enrolling for our next class\, tentatively set to begin on October 1\, 2024. Classes will be taught in the evening\, two days a week\, on Tuesdays and Thursdays from 5:00 pm – 8:30 pm. This session is expected to last 4-6 months\, depending on the size of the class and their pace through coursework. We look forward to bringing this exciting class back this fall!\n\nThe HVAC certificate program prepares students to become leaders in the field by providing a foundation of knowledge\, skills\, and the ability to think critically.\n\nThe training utilizes an industry-recognized curriculum from the National Center for Construction Education and Research (NCCER). A state-of-the-art lab offers hands-on instruction. Our HVAC certificate program consists of three courses.\n\nApply Now
URL:https://www.jobpoint.org/event/heating-ventilation-air-conditioning-fall-2024-session/
CATEGORIES:Upcoming Classes
ATTACH;FMTTYPE=image/png:https://www.jobpoint.org/wp-content/uploads/2024/08/Now-Enrolling-Class-Specific.png
END:VEVENT
BEGIN:VEVENT
DTSTART;TZID=America/Chicago:20240903T080000
DTEND;TZID=America/Chicago:20240913T153000
DTSTAMP:20260424T215234
CREATED:20240823T193306Z
LAST-MODIFIED:20240823T193306Z
UID:10730-1725350400-1726241400@www.jobpoint.org
SUMMARY:YouthBuild Mental Toughness Orientation
DESCRIPTION:We are now enrolling for our next Mental Toughness Orientation for YouthBuild set to begin the week of September 3. This two-week program is Job Point’s prerequisite for enrollment in YouthBuild.\n\nJob Point’s YouthBuild program helps empower young people ages 16-24 to reclaim their education\, helping them earn their high school equivalency\, learn a skilled trade\, and develop powerful leadership\, communication and life skills. Students have the opportunity to earn a stipend while they study for their HiSET exams\, get hands-on experience building houses and serving their community.\n\nEligibility requirements: \n\n1. Between the ages of 16 and 24 on the date of enrollment; AND\n2. Member of a low-income family\, a youth in foster care (including youth aging out of foster care)\, an offender\, a youth who is an individual with a disability\, a child of an incarcerated parent\, a homeless youth\, or a migrant youth; AND\n3. School dropout\, or an individual who was a school dropout and has subsequently re-enrolled\n\nApply Now
URL:https://www.jobpoint.org/event/youthbuild-mental-toughness-orientation/
LOCATION:Job Point\, 400 Wilkes Boulevard\, Columbia\, MO\, 65201\, United States
CATEGORIES:Upcoming Classes
ATTACH;FMTTYPE=image/png:https://www.jobpoint.org/wp-content/uploads/2024/08/youthbuild-now-enrolling.png
ORGANIZER;CN="Job Point":MAILTO:info@jobpoint.org
END:VEVENT
BEGIN:VEVENT
DTSTART;VALUE=DATE:20240603
DTEND;VALUE=DATE:20240604
DTSTAMP:20260424T215234
CREATED:20240408T155657Z
LAST-MODIFIED:20240408T155657Z
UID:10497-1717372800-1717459199@www.jobpoint.org
SUMMARY:Certified Nursing Assistant (CNA) Course - 2024 Summer Session
DESCRIPTION:Our next CNA class will begin on June 3\, 2024 and will be taught on Mondays and Wednesdays from 5:00 pm – 8:00 pm. To learn more about this class and submit your application for enrollment\, visit https://www.jobpoint.org/certified-nursing-assistant/. \nFor more information\, please call 573-777-1524.
URL:https://www.jobpoint.org/event/cna-summer-session-2024/
LOCATION:Job Point\, 400 Wilkes Boulevard\, Columbia\, MO\, 65201\, United States
CATEGORIES:Upcoming Classes
ATTACH;FMTTYPE=image/jpeg:https://www.jobpoint.org/wp-content/uploads/2021/12/washing-practice-scaled.jpg
END:VEVENT
BEGIN:VEVENT
DTSTART;VALUE=DATE:20240123
DTEND;VALUE=DATE:20240124
DTSTAMP:20260424T215234
CREATED:20240104T163632Z
LAST-MODIFIED:20240104T163809Z
UID:10400-1705968000-1706054399@www.jobpoint.org
SUMMARY:Certified Nursing Assistant (CNA) Course - 2024 Session 2
DESCRIPTION:Our next CNA class will begin on January 23\, 2023 and will be taught on Tuesdays and Thursdays from 5:00 pm – 8:00 pm. To learn more about this class and submit your application for enrollment\, visit https://www.jobpoint.org/certified-nursing-assistant/. \nFor more information\, please call 573-777-1524.
URL:https://www.jobpoint.org/event/certified-nursing-assistant-cna-course-2024-session-2/
LOCATION:Job Point\, 400 Wilkes Boulevard\, Columbia\, MO\, 65201\, United States
CATEGORIES:Upcoming Classes
ATTACH;FMTTYPE=image/jpeg:https://www.jobpoint.org/wp-content/uploads/2021/12/washing-practice-scaled.jpg
END:VEVENT
BEGIN:VEVENT
DTSTART;VALUE=DATE:20240122
DTEND;VALUE=DATE:20240123
DTSTAMP:20260424T215234
CREATED:20240104T163521Z
LAST-MODIFIED:20240104T163725Z
UID:10398-1705881600-1705967999@www.jobpoint.org
SUMMARY:Certified Nursing Assistant (CNA) Course - 2024 Session 1
DESCRIPTION:Our next Certified Nursing Assistant (CNA) course is scheduled to begin January 22\, and will meet on Mondays and Wednesdays\, 5:30 pm -8:30 pm. For more information\, please call 573-777-1524.
URL:https://www.jobpoint.org/event/certified-nursing-assistant-cna-course-2024-session-1/
LOCATION:Columbia Missouri\, Columbia\, MO\, United States
CATEGORIES:Upcoming Classes
ATTACH;FMTTYPE=image/jpeg:https://www.jobpoint.org/wp-content/uploads/2021/12/washing-practice-scaled.jpg
END:VEVENT
BEGIN:VEVENT
DTSTART;VALUE=DATE:20230907
DTEND;VALUE=DATE:20230908
DTSTAMP:20260424T215234
CREATED:20230828T195838Z
LAST-MODIFIED:20230828T195915Z
UID:10309-1694044800-1694131199@www.jobpoint.org
SUMMARY:Fall HVAC Class Begins
DESCRIPTION:Our next HVAC class begins on September 6 at 6:00 pm at Job Point’s main headquarters. To learn more about this class and submit your application for enrollment click here.
URL:https://www.jobpoint.org/event/fall-hvac-class-begins/
CATEGORIES:Upcoming Classes
ATTACH;FMTTYPE=image/jpeg:https://www.jobpoint.org/wp-content/uploads/2021/12/IMG_9500-scaled.jpg
END:VEVENT
BEGIN:VEVENT
DTSTART;VALUE=DATE:20230815
DTEND;VALUE=DATE:20230816
DTSTAMP:20260424T215234
CREATED:20230710T153418Z
LAST-MODIFIED:20230710T153418Z
UID:10282-1692057600-1692143999@www.jobpoint.org
SUMMARY:Certified Nursing Assistant (CNA) Course - Fall 2023
DESCRIPTION:Our next CNA class will begin on August 15\, 2023. To learn more about this class and submit your application for enrollment\, visit https://www.jobpoint.org/certified-nursing-assistant/. \nFor more information\, please call 573-777-1524.
URL:https://www.jobpoint.org/event/certified-nursing-assistant-cna-course-fall-2023/
LOCATION:Job Point\, 400 Wilkes Boulevard\, Columbia\, MO\, 65201\, United States
CATEGORIES:Upcoming Classes
ATTACH;FMTTYPE=image/jpeg:https://www.jobpoint.org/wp-content/uploads/2021/12/washing-practice-scaled.jpg
END:VEVENT
BEGIN:VEVENT
DTSTART;VALUE=DATE:20230207
DTEND;VALUE=DATE:20230208
DTSTAMP:20260424T215234
CREATED:20220124T155658Z
LAST-MODIFIED:20221110T225810Z
UID:9804-1675728000-1675814399@www.jobpoint.org
SUMMARY:Certified Nursing Assistant (CNA) Course - Session 2
DESCRIPTION:Our next CNA class will begin on February 7\, 2023. To learn more about this class and submit your application for enrollment\, visit https://www.jobpoint.org/certified-nursing-assistant/. \nFor more information\, please call 573-777-1524.
URL:https://www.jobpoint.org/event/cna-winter-session-2/
LOCATION:Job Point\, 400 Wilkes Boulevard\, Columbia\, MO\, 65201\, United States
CATEGORIES:Upcoming Classes
ATTACH;FMTTYPE=image/jpeg:https://www.jobpoint.org/wp-content/uploads/2021/12/washing-practice-scaled.jpg
END:VEVENT
BEGIN:VEVENT
DTSTART;TZID=America/Chicago:20230123T180000
DTEND;TZID=America/Chicago:20230123T210000
DTSTAMP:20260424T215234
CREATED:20221101T174300Z
LAST-MODIFIED:20221110T230109Z
UID:7666-1674496800-1674507600@www.jobpoint.org
SUMMARY:Certified Nursing Assistant (CNA) Course - Session 1
DESCRIPTION:Our next Certified Nursing Assistant (CNA) course is scheduled to begin January 23\, and will meet on Mondays and Wednesdays\, 6-9pm.  For more information\, please call 573-777-1524.
URL:https://www.jobpoint.org/event/cna-winter-2023/
LOCATION:Columbia Missouri\, Columbia\, MO\, United States
CATEGORIES:Upcoming Classes
ATTACH;FMTTYPE=image/jpeg:https://www.jobpoint.org/wp-content/uploads/2021/12/washing-practice-scaled.jpg
END:VEVENT
BEGIN:VEVENT
DTSTART;VALUE=DATE:20220906
DTEND;VALUE=DATE:20220907
DTSTAMP:20260424T215234
CREATED:20220407T154059Z
LAST-MODIFIED:20230828T195623Z
UID:9938-1662422400-1662508799@www.jobpoint.org
SUMMARY:Certified Nursing Assistant Course
DESCRIPTION:Our next CNA class will begin on September 6\, 2023.  To learn more about this class and submit your application for enrollment\, visit https://www.jobpoint.org/certified-nursing-assistant/ \nFor more information\, please call 573-777-1524.
URL:https://www.jobpoint.org/event/certified-nursing-assistant-course/
CATEGORIES:Upcoming Classes
ATTACH;FMTTYPE=image/jpeg:https://www.jobpoint.org/wp-content/uploads/2021/12/washing-practice-scaled.jpg
ORGANIZER;CN="Job Point":MAILTO:info@jobpoint.org
END:VEVENT
BEGIN:VEVENT
DTSTART;VALUE=DATE:20220404
DTEND;VALUE=DATE:20220405
DTSTAMP:20260424T215234
CREATED:20220321T212543Z
LAST-MODIFIED:20220321T212543Z
UID:9903-1649030400-1649116799@www.jobpoint.org
SUMMARY:HVAC Class Begins
DESCRIPTION:We are now accepting applications for our April Heating\, Ventilation and Air Conditioning Class. A variety of funding and scholarship options are available for income eligible applicants to help you get started on a new career path. Learn more about this class and submit your application online at https://www.jobpoint.org/heating-ventilation-air-conditioning/ Got questions about this program? Feel free to give us a call at 573-777-1524.
URL:https://www.jobpoint.org/event/hvac-class-begins/
LOCATION:Job Point\, 400 Wilkes Boulevard\, Columbia\, MO\, 65201\, United States
CATEGORIES:Upcoming Classes
ATTACH;FMTTYPE=image/jpeg:https://www.jobpoint.org/wp-content/uploads/2021/12/IMG_9500-scaled.jpg
ORGANIZER;CN="Job Point":MAILTO:info@jobpoint.org
END:VEVENT
BEGIN:VEVENT
DTSTART;VALUE=DATE:20220118
DTEND;VALUE=DATE:20220119
DTSTAMP:20260424T215234
CREATED:20211217T190039Z
LAST-MODIFIED:20211217T190039Z
UID:9774-1642464000-1642550399@www.jobpoint.org
SUMMARY:Winter HVAC Class Begins
DESCRIPTION:Our winter session of HVAC begins on January 18. For more information about this course and to submit your application for enrollment\, visit https://www.jobpoint.org/heating-ventilation-air-conditioning/. This session will be offered during the day. \n  \nMultiple scholarship and funding opportunities available for those who qualify.
URL:https://www.jobpoint.org/event/winter-hvac-class-begins/
CATEGORIES:Upcoming Classes
ATTACH;FMTTYPE=image/jpeg:https://www.jobpoint.org/wp-content/uploads/2021/12/IMG_9500-scaled.jpg
END:VEVENT
END:VCALENDAR