BEGIN:VCALENDAR
VERSION:2.0
PRODID:-//Job Point - ECPv6.15.20//NONSGML v1.0//EN
CALSCALE:GREGORIAN
METHOD:PUBLISH
X-ORIGINAL-URL:https://www.jobpoint.org
X-WR-CALDESC:Events for Job Point
REFRESH-INTERVAL;VALUE=DURATION:PT1H
X-Robots-Tag:noindex
X-PUBLISHED-TTL:PT1H
BEGIN:VTIMEZONE
TZID:America/Chicago
BEGIN:DAYLIGHT
TZOFFSETFROM:-0600
TZOFFSETTO:-0500
TZNAME:CDT
DTSTART:20210314T080000
END:DAYLIGHT
BEGIN:STANDARD
TZOFFSETFROM:-0500
TZOFFSETTO:-0600
TZNAME:CST
DTSTART:20211107T070000
END:STANDARD
BEGIN:DAYLIGHT
TZOFFSETFROM:-0600
TZOFFSETTO:-0500
TZNAME:CDT
DTSTART:20220313T080000
END:DAYLIGHT
BEGIN:STANDARD
TZOFFSETFROM:-0500
TZOFFSETTO:-0600
TZNAME:CST
DTSTART:20221106T070000
END:STANDARD
BEGIN:DAYLIGHT
TZOFFSETFROM:-0600
TZOFFSETTO:-0500
TZNAME:CDT
DTSTART:20230312T080000
END:DAYLIGHT
BEGIN:STANDARD
TZOFFSETFROM:-0500
TZOFFSETTO:-0600
TZNAME:CST
DTSTART:20231105T070000
END:STANDARD
BEGIN:DAYLIGHT
TZOFFSETFROM:-0600
TZOFFSETTO:-0500
TZNAME:CDT
DTSTART:20240310T080000
END:DAYLIGHT
BEGIN:STANDARD
TZOFFSETFROM:-0500
TZOFFSETTO:-0600
TZNAME:CST
DTSTART:20241103T070000
END:STANDARD
END:VTIMEZONE
BEGIN:VEVENT
DTSTART;TZID=America/Chicago:20231026T160000
DTEND;TZID=America/Chicago:20231026T180000
DTSTAMP:20260424T151829
CREATED:20230629T212401Z
LAST-MODIFIED:20230629T212401Z
UID:10255-1698336000-1698343200@www.jobpoint.org
SUMMARY:Neighborhood Halloween Block Party 2023
DESCRIPTION:Save the date for our second annual Neighborhood Halloween Block Party in Job Point’s parking lot! More details to be announced.  \nInterested in joining us this year at the resource fair? Register here
URL:https://www.jobpoint.org/event/neighborhood-halloween-block-party-2023/
LOCATION:Job Point\, 400 Wilkes Boulevard\, Columbia\, MO\, 65201\, United States
CATEGORIES:Special Events
ATTACH;FMTTYPE=image/jpeg:https://www.jobpoint.org/wp-content/uploads/2023/06/313400641_494106029427244_5041662288201821484_n.jpg
ORGANIZER;CN="Job Point":MAILTO:info@jobpoint.org
END:VEVENT
BEGIN:VEVENT
DTSTART;TZID=America/Chicago:20230907T173000
DTEND;TZID=America/Chicago:20230907T193000
DTSTAMP:20260424T151829
CREATED:20230828T195514Z
LAST-MODIFIED:20230828T195514Z
UID:10306-1694107800-1694115000@www.jobpoint.org
SUMMARY:Open House
DESCRIPTION:All are invited to join us on Thursday\, September 7 for an OPEN HOUSE! Guests will get to tour the facilities\, meet instructors\, learn more about all of our programs and potential scholarships\, ask as many questions as you want and complete your application before you leave. We will host one session from 5:30 pm – 7:30 pm. Interested parents\, students and prospective applications can join us live or virtually at either session.\n\nRefreshments will be available and prizes will be given away!\n\nUse the form below to register and we’ll send you a copy of the application and the link to join us virtually.
URL:https://www.jobpoint.org/event/open-house-3/
LOCATION:MO
CATEGORIES:Job Works,Open Enrollment Courses,Special Events
ATTACH;FMTTYPE=image/png:https://www.jobpoint.org/wp-content/uploads/2023/08/JobPoint-OpenHouse-2023.png
END:VEVENT
BEGIN:VEVENT
DTSTART;TZID=America/Chicago:20230901T133000
DTEND;TZID=America/Chicago:20230901T153000
DTSTAMP:20260424T151829
CREATED:20230828T195325Z
LAST-MODIFIED:20230828T195325Z
UID:10304-1693575000-1693582200@www.jobpoint.org
SUMMARY:Open House
DESCRIPTION:All are invited to join us on Friday\, September 1\, 2023 for an OPEN HOUSE! Guests will get to tour the facilities\, meet instructors\, learn more about all of our programs and potential scholarships\, ask as many questions as you want and complete your application before you leave. We will host two sessions on Friday\, 11:00 am – 1:00 pm and 1:30 pm – 3:30 pm. Interested parents\, students and prospective applications can join us live or virtually at either session.\n\nRefreshments will be available and prizes will be given away!\n\nUse the form below to register and we’ll send you a copy of the application and the link to join us virtually.
URL:https://www.jobpoint.org/event/open-house-2/
LOCATION:MO
CATEGORIES:Job Works,Open Enrollment Courses,Special Events
ATTACH;FMTTYPE=image/png:https://www.jobpoint.org/wp-content/uploads/2023/08/JobPoint-OpenHouse-2023.png
END:VEVENT
BEGIN:VEVENT
DTSTART;TZID=America/Chicago:20230901T110000
DTEND;TZID=America/Chicago:20230901T130000
DTSTAMP:20260424T151829
CREATED:20230817T193811Z
LAST-MODIFIED:20230817T193812Z
UID:10298-1693566000-1693573200@www.jobpoint.org
SUMMARY:Open House
DESCRIPTION:All are invited to join us on Friday\, September 1\, 2023 for an OPEN HOUSE! Guests will get to tour the facilities\, meet instructors\, learn more about all of our programs and potential scholarships\, ask as many questions as you want and complete your application before you leave. We will host two sessions on Friday\, 11:00 am – 1:00 pm and 1:30 pm – 3:30 pm. Interested parents\, students and prospective applications can join us live or virtually at either session.\n\nRefreshments will be available and prizes will be given away!\n\nUse the form below to register and we’ll send you a copy of the application and the link to join us virtually.
URL:https://www.jobpoint.org/event/open-house/
LOCATION:MO
CATEGORIES:Job Works,Open Enrollment Courses,Special Events
ATTACH;FMTTYPE=image/png:https://www.jobpoint.org/wp-content/uploads/2023/08/JobPoint-OpenHouse-2023.png
END:VEVENT
BEGIN:VEVENT
DTSTART;TZID=America/Chicago:20230601T180000
DTEND;TZID=America/Chicago:20230601T210000
DTSTAMP:20260424T151829
CREATED:20221208T232058Z
LAST-MODIFIED:20230511T185229Z
UID:10198-1685642400-1685653200@www.jobpoint.org
SUMMARY:Annual Awards Banquet 2023
DESCRIPTION:The Annual Awards Banquet is near and dear to our hearts. It is our most anticipated event of the year because\, unlike other events around town\, this event brings Job Point’s partners\, volunteers\, supporters\, donors\, staff and clients together in one room in the spirit of celebration. \nThis event showcases our mission better than anything we could write here – it assembles a visual representation of what is possible when we all come together with the singular purpose of equal access to opportunity\, education and employment for every single person in our community. \nWe hope you will be able to join us on June 1\, 2023 at the Courtyard by Marriott  as we celebrate our Award of Excellence Recipients and all of the community partners who have made success possible for our clients.
URL:https://www.jobpoint.org/event/annual-awards-banquet-2023/
LOCATION:MO
CATEGORIES:Special Events
ATTACH;FMTTYPE=image/png:https://www.jobpoint.org/wp-content/uploads/2022/12/Awards-Night-Flyer-Facebook-Event-Cover.png
END:VEVENT
BEGIN:VEVENT
DTSTART;TZID=America/Chicago:20221027T153000
DTEND;TZID=America/Chicago:20221027T183000
DTSTAMP:20260424T151829
CREATED:20221003T165925Z
LAST-MODIFIED:20221003T165925Z
UID:10138-1666884600-1666895400@www.jobpoint.org
SUMMARY:Neighborhood Halloween Block Party
DESCRIPTION:Join us for a fun\, family-friendly Halloween event – featuring candy\, games\, food\, music\, inflatable obstacle course from the Army National Guard and resource fair featuring: Columbia Center for Urban Agriculture\, Central Missouri Community Action\, Local Motion\, Compass Health Network\, Daniel Boone Regional Library\, MU Extension-Family Nutrition Program\, ShowMe Healthy Relationships\, Services for Independent Living\, FACE of Boone County\, The Reentry Opportunity Center (ROC)\, True North of Columbia\, The Minority Men’s Network and more.
URL:https://www.jobpoint.org/event/neighborhood-halloween-block-party/
LOCATION:Job Point\, 400 Wilkes Boulevard\, Columbia\, MO\, 65201\, United States
CATEGORIES:Special Events
ATTACH;FMTTYPE=image/png:https://www.jobpoint.org/wp-content/uploads/2022/10/Block-Party-Facebook-Event-Cover-1.png
ORGANIZER;CN="Job Point":MAILTO:info@jobpoint.org
END:VEVENT
BEGIN:VEVENT
DTSTART;TZID=America/Chicago:20220728T090000
DTEND;TZID=America/Chicago:20220728T093000
DTSTAMP:20260424T151829
CREATED:20220715T171004Z
LAST-MODIFIED:20220715T171443Z
UID:10054-1658998800-1659000600@www.jobpoint.org
SUMMARY:Ribbon Cutting & Check Presentation with Veterans United Foundation
DESCRIPTION:Please join us as we celebrate the incredibly generous gift Veterans United Foundation has made toward our Affordable Housing Program.\n\nTour the homes our YouthBuild and Carpentry students are building at the Cullimore Cottages project and learn more about how together we are changing our community for the better!\n\nThe Chamber Ambassador Ribbon Cutting and check presentation will take place at 1101 N. 8th St. Parking is available in the parking lot across from Columbia College’s Marvin Owens Stadium on Wilkes Boulevard. Shuttles will take guests to the job site.\n\nRefreshments will be served.
URL:https://www.jobpoint.org/event/10054/
LOCATION:Cullimore Cottages\, 1101 N 8th ST\, Columbia\, MO\, 65201\, United States
CATEGORIES:Special Events
ATTACH;FMTTYPE=image/png:https://www.jobpoint.org/wp-content/uploads/2022/07/Job-Point-Ribbon-Cutting-2022.png
ORGANIZER;CN="Job Point":MAILTO:info@jobpoint.org
END:VEVENT
BEGIN:VEVENT
DTSTART;TZID=America/Chicago:20220714T160000
DTEND;TZID=America/Chicago:20220714T170000
DTSTAMP:20260424T151829
CREATED:20220624T181251Z
LAST-MODIFIED:20220624T181252Z
UID:10014-1657814400-1657818000@www.jobpoint.org
SUMMARY:Spring/Summer Graduation 2022
DESCRIPTION:
URL:https://www.jobpoint.org/event/spring-summer-graduation-2022/
LOCATION:Launer Auditorium at Columbia College\, 901 Rogers St\, Columbia\, MO\, 65201\, United States
CATEGORIES:Special Events
ATTACH;FMTTYPE=image/png:https://www.jobpoint.org/wp-content/uploads/2022/06/Spring-Summer-Graduation-half-Page.png
ORGANIZER;CN="Job Point":MAILTO:info@jobpoint.org
END:VEVENT
BEGIN:VEVENT
DTSTART;TZID=America/Chicago:20220615T181500
DTEND;TZID=America/Chicago:20220615T210000
DTSTAMP:20260424T151829
CREATED:20211217T174613Z
LAST-MODIFIED:20220531T171255Z
UID:9764-1655316900-1655326800@www.jobpoint.org
SUMMARY:2022 Annual Awards Banquet
DESCRIPTION:The Annual Awards Banquet is near and dear to our hearts. It is our most anticipated event of the year because\, unlike other events around town\, this event brings Job Point’s partners\, volunteers\, supporters\, donors\, staff and clients together in one room in the spirit of celebration. \nThis event showcases our mission better than anything we could write here – it assembles a visual representation of what is possible when we all come together with the singular purpose of equal access to opportunity\, education and employment for every single person in our community. \nWe hope you will be able to join us on June 15\, 2022 at the Courtyard by Marriott  as we celebrate our Award of Excellence Recipients and all of the community partners who have made success possible for our clients.
URL:https://www.jobpoint.org/event/2022-annual-awards-banquet/
LOCATION:Courtyard by Marriott\, 3301 Lemone Industrial Blvd\, Columbia\, Missouri
CATEGORIES:Special Events
ATTACH;FMTTYPE=image/png:https://www.jobpoint.org/wp-content/uploads/2021/12/Annual-Awards-Banquet-June-2022-Updated.png
ORGANIZER;CN="Job Point":MAILTO:info@jobpoint.org
END:VEVENT
BEGIN:VEVENT
DTSTART;TZID=America/Chicago:20220107T160000
DTEND;TZID=America/Chicago:20220107T180000
DTSTAMP:20260424T151829
CREATED:20211222T210625Z
LAST-MODIFIED:20211222T210625Z
UID:9782-1641571200-1641578400@www.jobpoint.org
SUMMARY:Winter Graduation Ceremony
DESCRIPTION:Join us as we celebrate the successful completion and graduation of our students! These students have worked their hearts out to achieve their goals and make progress toward their dreams. We are so proud of their journey and the bright future that lies ahead for each of our graduates! \nIf you would like to RSVP\, please contact info@jobpoint.org or call 573-474-8560 to help us plan for ample social distanced seating for all of our graduates and guests.
URL:https://www.jobpoint.org/event/winter-graduation-ceremony/
LOCATION:Launer Auditorium at Columbia College\, 901 Rogers St\, Columbia\, MO\, 65201\, United States
CATEGORIES:Special Events
ATTACH;FMTTYPE=image/png:https://www.jobpoint.org/wp-content/uploads/2021/12/WINTER-2022-Flyer-5.5-×-8.5-in-Facebook-Post-Facebook-Event-Cover.png
END:VEVENT
END:VCALENDAR