BEGIN:VCALENDAR
VERSION:2.0
PRODID:-//Job Point - ECPv6.15.20//NONSGML v1.0//EN
CALSCALE:GREGORIAN
METHOD:PUBLISH
X-WR-CALNAME:Job Point
X-ORIGINAL-URL:https://www.jobpoint.org
X-WR-CALDESC:Events for Job Point
REFRESH-INTERVAL;VALUE=DURATION:PT1H
X-Robots-Tag:noindex
X-PUBLISHED-TTL:PT1H
BEGIN:VTIMEZONE
TZID:America/Chicago
BEGIN:DAYLIGHT
TZOFFSETFROM:-0600
TZOFFSETTO:-0500
TZNAME:CDT
DTSTART:20250309T080000
END:DAYLIGHT
BEGIN:STANDARD
TZOFFSETFROM:-0500
TZOFFSETTO:-0600
TZNAME:CST
DTSTART:20251102T070000
END:STANDARD
BEGIN:DAYLIGHT
TZOFFSETFROM:-0600
TZOFFSETTO:-0500
TZNAME:CDT
DTSTART:20260308T080000
END:DAYLIGHT
BEGIN:STANDARD
TZOFFSETFROM:-0500
TZOFFSETTO:-0600
TZNAME:CST
DTSTART:20261101T070000
END:STANDARD
BEGIN:DAYLIGHT
TZOFFSETFROM:-0600
TZOFFSETTO:-0500
TZNAME:CDT
DTSTART:20270314T080000
END:DAYLIGHT
BEGIN:STANDARD
TZOFFSETFROM:-0500
TZOFFSETTO:-0600
TZNAME:CST
DTSTART:20271107T070000
END:STANDARD
END:VTIMEZONE
BEGIN:VEVENT
DTSTART;TZID=America/Chicago:20260521T160000
DTEND;TZID=America/Chicago:20260521T170000
DTSTAMP:20260424T114336
CREATED:20260422T183747Z
LAST-MODIFIED:20260422T183747Z
UID:11328-1779379200-1779382800@www.jobpoint.org
SUMMARY:Spring Graduation 2026
DESCRIPTION:Students\, their families and stakeholders are invited to join us at 4:00 pm on Thursday\, May 21st for Job Point’s Fall 2025 Graduation Ceremony\, honoring students of our programs who have completed all of the requirements for graduation over the past 6 months. \nSpecial thanks to our sponsors of this event: MFA Oil Company \nCeremony begins at 4:00 pm. Refreshments will be served at its conclusion. \nRSVP not necessary for attendance\, but please call (573) 474-8560 or email info@jobpoint.org with any questions.
URL:https://www.jobpoint.org/event/spring-grad-2026/
LOCATION:Launer Auditorium at Columbia College\, 901 Rogers St\, Columbia\, MO\, 65201\, United States
CATEGORIES:Special Events
ATTACH;FMTTYPE=image/png:https://www.jobpoint.org/wp-content/uploads/2026/04/Spring-2026-Graduation.png
ORGANIZER;CN="Job Point":MAILTO:info@jobpoint.org
END:VEVENT
BEGIN:VEVENT
DTSTART;TZID=America/Chicago:20260625T180000
DTEND;TZID=America/Chicago:20260625T210000
DTSTAMP:20260424T114336
CREATED:20260422T212329Z
LAST-MODIFIED:20260422T212836Z
UID:11332-1782410400-1782421200@www.jobpoint.org
SUMMARY:Comedy Night
DESCRIPTION:Job Point’s Stand-Up Comedy Night\, presented by the Columbia Cosmopolitan Luncheon Club & Columbia Insurance returns to the Blue Note on Thursday\, June 25\, 2026 in downtown Columbia. Doors open at 6:00 pm for Happy Hour sponsored by Eng & Woods. The show begins at 7:00 pm.\n\nThis year will be something completely different\, but still entirely entertaining! Instead of strong-arming three local celebrity comedians to brave the stage\, the whole audience will have a chance to participate\, with priority given first to sponsors and their guests!\n \n \nFeaturing The DougT Hypno Show!\n \nDoug T. is a veteran stand-up comic who has worked with some of the best in the business\, touring with acts like the cast of “Impractical Jokers.” Eventually\, Doug decided he wanted to take his own act to the next level. He wanted to give audiences something entirely different than the run-of-the-mill comedy show. So he began to study the principles and practice of hypnotism. The result of these efforts is his own brand of Comedy Hypnotism that’s fun\, fascinating\, and gut-bustingly hilarious.\n\nDoug’s show is unlike anything else\, Fast and funny\, Doug keeps his audience in awe. Non-stop comedy\, dead-on impressions\, and mind-bending hypnotism make this a performance unlike any other. You’ll be talking about this show for a long time to come. But don’t worry about being forced to do something you’ll regret in the morning. This raucously fun evening doesn’t come at the cost of your compromised dignity. Doug T. maintains a mantra of respect toward every audience volunteer who sets foot on his stage.\n\nTickets for the show are $100/person and include dinner\, select beer and wine\, and a one of a kind show! A small number of reserved tables are also still available starting at $750. Dress code is casual.\n\nProceeds from this event benefit Job Point’s services for students\, graduates and job seekers. Examples of benefits include helping provide for emergent and essential needs as they begin their job search and transition into employment. Your support can help provide interview outfits\, gas and phone cards\, tools and personal protective equipment\, uniforms\, specialty shoes or whatever a person needs to successfully take a position and move into financial stability.\n\nJoin us for a night of laughter and raising funds to help our neighbors throughout this community establish their own legacy of impact and success.\n\nTickets can be purchased below.\n\nRegister Now\n\nA limited number of tickets may be available for purchase at the door.   \nSpecial Thanks to our Presenting Sponsors
URL:https://www.jobpoint.org/event/comedy-night-26/
CATEGORIES:Special Events
ATTACH;FMTTYPE=image/png:https://www.jobpoint.org/wp-content/uploads/2026/04/Hypno-Comedy-Night.png
ORGANIZER;CN="Job Point":MAILTO:info@jobpoint.org
END:VEVENT
END:VCALENDAR